Package: MOMA Version: 1.19.0 Command: /Library/Frameworks/R.framework/Resources/bin/R CMD check --install=check:MOMA.install-out.txt --library=/Library/Frameworks/R.framework/Resources/library --no-vignettes --timings MOMA_1.19.0.tar.gz StartedAt: 2025-02-04 21:46:41 -0500 (Tue, 04 Feb 2025) EndedAt: 2025-02-04 21:50:27 -0500 (Tue, 04 Feb 2025) EllapsedTime: 226.0 seconds RetCode: 0 Status: OK CheckDir: MOMA.Rcheck Warnings: 0