Package: MOMA Version: 1.19.0 Command: rm -rf MOMA.buildbin-libdir && mkdir MOMA.buildbin-libdir && E:\biocbuild\bbs-3.21-bioc\R\bin\R.exe CMD INSTALL --build --library=MOMA.buildbin-libdir MOMA_1.19.0.tar.gz StartedAt: 2025-02-13 08:22:06 -0500 (Thu, 13 Feb 2025) EndedAt: 2025-02-13 08:23:03 -0500 (Thu, 13 Feb 2025) EllapsedTime: 57.1 seconds RetCode: 0 Status: OK PackageFile: MOMA_1.19.0.zip PackageFileSize: 5.237 MiB