Package: MOMA Version: 1.19.0 Command: chmod a+r MOMA -R && E:\biocbuild\bbs-3.21-bioc\R\bin\R.exe CMD build --keep-empty-dirs --no-resave-data MOMA StartedAt: 2025-02-09 20:01:32 -0500 (Sun, 09 Feb 2025) EndedAt: 2025-02-09 20:04:37 -0500 (Sun, 09 Feb 2025) EllapsedTime: 185.3 seconds RetCode: 0 Status: OK PackageFile: MOMA_1.19.0.tar.gz PackageFileSize: 4.222 MiB