Package: MOMA Version: 1.19.0 Command: E:\biocbuild\bbs-3.21-bioc\R\bin\R.exe CMD check --no-multiarch --install=check:MOMA.install-out.txt --library=E:\biocbuild\bbs-3.21-bioc\R\library --no-vignettes --timings MOMA_1.19.0.tar.gz StartedAt: 2025-02-13 03:18:18 -0500 (Thu, 13 Feb 2025) EndedAt: 2025-02-13 03:22:21 -0500 (Thu, 13 Feb 2025) EllapsedTime: 243.3 seconds RetCode: 0 Status: OK CheckDir: MOMA.Rcheck Warnings: 0