Package: MOSim Version: 2.3.0 Command: rm -rf MOSim.buildbin-libdir && mkdir MOSim.buildbin-libdir && /Users/biocbuild/BBS/utils/build-universal.sh MOSim_2.3.0.tar.gz /Library/Frameworks/R.framework/Resources/bin/R MOSim.buildbin-libdir StartedAt: 2025-02-09 22:21:57 -0500 (Sun, 09 Feb 2025) EndedAt: 2025-02-09 22:22:14 -0500 (Sun, 09 Feb 2025) EllapsedTime: 16.2 seconds RetCode: 0 Status: OK PackageFile: MOSim_2.3.0.tgz PackageFileSize: 6.454 MiB