Package: MOSim Version: 2.3.0 Command: /Library/Frameworks/R.framework/Resources/bin/R CMD check --install=check:MOSim.install-out.txt --library=/Library/Frameworks/R.framework/Resources/library --no-vignettes --timings MOSim_2.3.0.tar.gz StartedAt: 2025-02-03 20:50:05 -0500 (Mon, 03 Feb 2025) EndedAt: 2025-02-03 20:55:30 -0500 (Mon, 03 Feb 2025) EllapsedTime: 324.7 seconds RetCode: 0 Status: WARNINGS CheckDir: MOSim.Rcheck Warnings: 1