Package: MOSim Version: 2.3.0 Command: /Library/Frameworks/R.framework/Resources/bin/R CMD INSTALL MOSim StartedAt: 2025-02-03 16:00:19 -0500 (Mon, 03 Feb 2025) EndedAt: 2025-02-03 16:00:35 -0500 (Mon, 03 Feb 2025) EllapsedTime: 15.9 seconds RetCode: 0 Status: OK