Package: MOSim Version: 2.3.0 Command: /home/biocbuild/R/R/bin/R CMD build --keep-empty-dirs --no-resave-data MOSim StartedAt: 2025-01-29 00:31:49 -0000 (Wed, 29 Jan 2025) EndedAt: 2025-01-29 00:42:13 -0000 (Wed, 29 Jan 2025) EllapsedTime: 624.2 seconds RetCode: 0 Status: OK PackageFile: MOSim_2.3.0.tar.gz PackageFileSize: 5.937 MiB