Package: MOSim Version: 2.3.0 Command: /home/biocbuild/R/R/bin/R CMD check --install=check:MOSim.install-out.txt --library=/home/biocbuild/R/R/site-library --no-vignettes --timings MOSim_2.3.0.tar.gz StartedAt: 2025-01-28 12:43:53 -0000 (Tue, 28 Jan 2025) EndedAt: 2025-01-28 13:04:10 -0000 (Tue, 28 Jan 2025) EllapsedTime: 1216.6 seconds RetCode: 0 Status: WARNINGS CheckDir: MOSim.Rcheck Warnings: 1