Package: MOSim Version: 2.3.0 Command: /home/biocbuild/R/R/bin/R CMD INSTALL MOSim StartedAt: 2025-01-29 20:30:13 -0000 (Wed, 29 Jan 2025) EndedAt: 2025-01-29 20:31:13 -0000 (Wed, 29 Jan 2025) EllapsedTime: 59.8 seconds RetCode: 0 Status: OK