Package: MOSim Version: 2.3.0 Command: /Library/Frameworks/R.framework/Resources/bin/R CMD check --install=check:MOSim.install-out.txt --library=/Library/Frameworks/R.framework/Resources/library --no-vignettes --timings MOSim_2.3.0.tar.gz StartedAt: 2025-02-09 22:04:02 -0500 (Sun, 09 Feb 2025) EndedAt: 2025-02-09 22:20:30 -0500 (Sun, 09 Feb 2025) EllapsedTime: 987.3 seconds RetCode: 0 Status: WARNINGS CheckDir: MOSim.Rcheck Warnings: 1