Package: MOSim Version: 2.3.0 Command: /home/biocbuild/bbs-3.21-bioc/R/bin/R CMD build --keep-empty-dirs --no-resave-data MOSim StartedAt: 2025-02-09 18:14:50 -0500 (Sun, 09 Feb 2025) EndedAt: 2025-02-09 18:21:28 -0500 (Sun, 09 Feb 2025) EllapsedTime: 398.4 seconds RetCode: 0 Status: OK PackageFile: MOSim_2.3.0.tar.gz PackageFileSize: 5.937 MiB