Package: MOSim Version: 2.3.0 Command: /home/biocbuild/bbs-3.21-bioc/R/bin/R CMD INSTALL MOSim StartedAt: 2025-02-09 15:52:38 -0500 (Sun, 09 Feb 2025) EndedAt: 2025-02-09 15:53:20 -0500 (Sun, 09 Feb 2025) EllapsedTime: 41.8 seconds RetCode: 0 Status: OK