Package: MOSim Version: 2.3.0 Command: rm -rf MOSim.buildbin-libdir && mkdir MOSim.buildbin-libdir && E:\biocbuild\bbs-3.21-bioc\R\bin\R.exe CMD INSTALL --build --library=MOSim.buildbin-libdir MOSim_2.3.0.tar.gz StartedAt: 2025-02-10 08:11:59 -0500 (Mon, 10 Feb 2025) EndedAt: 2025-02-10 08:14:01 -0500 (Mon, 10 Feb 2025) EllapsedTime: 122.7 seconds RetCode: 0 Status: OK PackageFile: MOSim_2.3.0.zip PackageFileSize: 6.762 MiB