Package: MOSim Version: 2.3.0 Command: E:\biocbuild\bbs-3.21-bioc\R\bin\R.exe CMD INSTALL MOSim StartedAt: 2025-02-09 16:26:29 -0500 (Sun, 09 Feb 2025) EndedAt: 2025-02-09 16:27:36 -0500 (Sun, 09 Feb 2025) EllapsedTime: 66.4 seconds RetCode: 0 Status: OK