Package: MPAC Version: 1.1.4 Maintainer: Peng Liu MaintainerEmail: pliu55.wisc+bioconductor at gmail.com git_url: https://git.bioconductor.org/packages/MPAC git_branch: devel git_last_commit: ab11417 git_last_commit_date: 2025-01-30 15:47:55 -0500 (Thu, 30 Jan 2025)