Package: MPAC Version: 1.1.4 Command: /Library/Frameworks/R.framework/Resources/bin/R CMD INSTALL MPAC StartedAt: 2025-02-09 15:25:31 -0500 (Sun, 09 Feb 2025) EndedAt: 2025-02-09 15:25:44 -0500 (Sun, 09 Feb 2025) EllapsedTime: 12.8 seconds RetCode: 0 Status: OK