Package: MPAC Version: 1.1.1 Command: /home/biocbuild/R/R/bin/R CMD build --keep-empty-dirs --no-resave-data MPAC StartedAt: 2025-01-29 00:36:20 -0000 (Wed, 29 Jan 2025) EndedAt: 2025-01-29 00:37:34 -0000 (Wed, 29 Jan 2025) EllapsedTime: 74.0 seconds RetCode: 0 Status: OK PackageFile: MPAC_1.1.1.tar.gz PackageFileSize: 851.1 KiB