Package: MPAC Version: 1.1.4 Command: /Library/Frameworks/R.framework/Resources/bin/R CMD INSTALL MPAC StartedAt: 2025-02-12 15:40:34 -0500 (Wed, 12 Feb 2025) EndedAt: 2025-02-12 15:41:16 -0500 (Wed, 12 Feb 2025) EllapsedTime: 41.6 seconds RetCode: 0 Status: OK