Package: MPAC Version: 1.1.4 Command: /home/biocbuild/bbs-3.21-bioc/R/bin/R CMD build --keep-empty-dirs --no-resave-data MPAC StartedAt: 2025-02-09 18:16:04 -0500 (Sun, 09 Feb 2025) EndedAt: 2025-02-09 18:17:04 -0500 (Sun, 09 Feb 2025) EllapsedTime: 60.0 seconds RetCode: 0 Status: OK PackageFile: MPAC_1.1.4.tar.gz PackageFileSize: 795.1 KiB