Package: MPAC Version: 1.1.4 Command: /home/biocbuild/bbs-3.21-bioc/R/bin/R CMD check --install=check:MPAC.install-out.txt --library=/home/biocbuild/bbs-3.21-bioc/R/site-library --timings MPAC_1.1.4.tar.gz StartedAt: 2025-02-10 00:25:34 -0500 (Mon, 10 Feb 2025) EndedAt: 2025-02-10 00:30:13 -0500 (Mon, 10 Feb 2025) EllapsedTime: 279.3 seconds RetCode: 0 Status: OK CheckDir: MPAC.Rcheck Warnings: 0