Package: MPAC Version: 1.1.4 Command: rm -rf MPAC.buildbin-libdir && mkdir MPAC.buildbin-libdir && E:\biocbuild\bbs-3.21-bioc\R\bin\R.exe CMD INSTALL --build --library=MPAC.buildbin-libdir MPAC_1.1.4.tar.gz StartedAt: 2025-02-10 08:12:31 -0500 (Mon, 10 Feb 2025) EndedAt: 2025-02-10 08:13:11 -0500 (Mon, 10 Feb 2025) EllapsedTime: 40.6 seconds RetCode: 0 Status: OK PackageFile: MPAC_1.1.4.zip PackageFileSize: 807.2 KiB