Package: MPAC Version: 1.1.4 Command: chmod a+r MPAC -R && E:\biocbuild\bbs-3.21-bioc\R\bin\R.exe CMD build --keep-empty-dirs --no-resave-data MPAC StartedAt: 2025-02-09 20:05:21 -0500 (Sun, 09 Feb 2025) EndedAt: 2025-02-09 20:06:42 -0500 (Sun, 09 Feb 2025) EllapsedTime: 81.3 seconds RetCode: 0 Status: OK PackageFile: MPAC_1.1.4.tar.gz PackageFileSize: 795.3 KiB