Package: MPAC Version: 1.1.4 Command: E:\biocbuild\bbs-3.21-bioc\R\bin\R.exe CMD check --no-multiarch --install=check:MPAC.install-out.txt --library=E:\biocbuild\bbs-3.21-bioc\R\library --no-vignettes --timings MPAC_1.1.4.tar.gz StartedAt: 2025-02-10 03:11:40 -0500 (Mon, 10 Feb 2025) EndedAt: 2025-02-10 03:16:29 -0500 (Mon, 10 Feb 2025) EllapsedTime: 288.3 seconds RetCode: 0 Status: OK CheckDir: MPAC.Rcheck Warnings: 0