Package: MPAC Version: 1.1.4 Command: E:\biocbuild\bbs-3.21-bioc\R\bin\R.exe CMD INSTALL MPAC StartedAt: 2025-02-09 16:27:30 -0500 (Sun, 09 Feb 2025) EndedAt: 2025-02-09 16:28:17 -0500 (Sun, 09 Feb 2025) EllapsedTime: 47.2 seconds RetCode: 0 Status: OK