Package: MPFE Version: 1.43.0 Command: /Library/Frameworks/R.framework/Resources/bin/R CMD check --install=check:MPFE.install-out.txt --library=/Library/Frameworks/R.framework/Resources/library --no-vignettes --timings MPFE_1.43.0.tar.gz StartedAt: 2025-02-04 20:18:03 -0500 (Tue, 04 Feb 2025) EndedAt: 2025-02-04 20:18:14 -0500 (Tue, 04 Feb 2025) EllapsedTime: 11.1 seconds RetCode: 0 Status: OK CheckDir: MPFE.Rcheck Warnings: 0