Package: MPFE Version: 1.43.0 Command: /Library/Frameworks/R.framework/Resources/bin/R CMD INSTALL MPFE StartedAt: 2025-02-04 15:01:17 -0500 (Tue, 04 Feb 2025) EndedAt: 2025-02-04 15:01:21 -0500 (Tue, 04 Feb 2025) EllapsedTime: 3.8 seconds RetCode: 0 Status: OK