Package: MPFE Version: 1.43.0 Command: /home/biocbuild/R/R/bin/R CMD build --keep-empty-dirs --no-resave-data MPFE StartedAt: 2025-01-29 00:36:53 -0000 (Wed, 29 Jan 2025) EndedAt: 2025-01-29 00:36:58 -0000 (Wed, 29 Jan 2025) EllapsedTime: 5.0 seconds RetCode: 0 Status: OK PackageFile: MPFE_1.43.0.tar.gz PackageFileSize: 183.4 KiB