Package: MPFE Version: 1.43.0 Command: /home/biocbuild/R/R/bin/R CMD check --install=check:MPFE.install-out.txt --library=/home/biocbuild/R/R/site-library --no-vignettes --timings MPFE_1.43.0.tar.gz StartedAt: 2025-01-28 12:47:05 -0000 (Tue, 28 Jan 2025) EndedAt: 2025-01-28 12:47:31 -0000 (Tue, 28 Jan 2025) EllapsedTime: 26.0 seconds RetCode: 0 Status: OK CheckDir: MPFE.Rcheck Warnings: 0