Package: MPFE Version: 1.43.0 Command: /home/biocbuild/R/R/bin/R CMD INSTALL MPFE StartedAt: 2025-01-29 19:30:05 -0000 (Wed, 29 Jan 2025) EndedAt: 2025-01-29 19:30:30 -0000 (Wed, 29 Jan 2025) EllapsedTime: 25.5 seconds RetCode: 0 Status: OK