Package: MPFE Version: 1.43.0 Command: /Library/Frameworks/R.framework/Resources/bin/R CMD build --keep-empty-dirs --no-resave-data MPFE StartedAt: 2025-02-09 17:35:23 -0500 (Sun, 09 Feb 2025) EndedAt: 2025-02-09 17:35:32 -0500 (Sun, 09 Feb 2025) EllapsedTime: 9.1 seconds RetCode: 0 Status: OK PackageFile: MPFE_1.43.0.tar.gz PackageFileSize: 190.4 KiB