Package: MPFE Version: 1.43.0 Command: /Library/Frameworks/R.framework/Resources/bin/R CMD INSTALL MPFE StartedAt: 2025-02-09 15:03:44 -0500 (Sun, 09 Feb 2025) EndedAt: 2025-02-09 15:04:14 -0500 (Sun, 09 Feb 2025) EllapsedTime: 30.1 seconds RetCode: 0 Status: OK