Package: MPFE Version: 1.43.0 Command: /home/biocbuild/bbs-3.21-bioc/R/bin/R CMD build --keep-empty-dirs --no-resave-data MPFE StartedAt: 2025-02-09 18:16:24 -0500 (Sun, 09 Feb 2025) EndedAt: 2025-02-09 18:16:28 -0500 (Sun, 09 Feb 2025) EllapsedTime: 4.0 seconds RetCode: 0 Status: OK PackageFile: MPFE_1.43.0.tar.gz PackageFileSize: 190.9 KiB