Package: MPFE Version: 1.43.0 Command: /home/biocbuild/bbs-3.21-bioc/R/bin/R CMD check --install=check:MPFE.install-out.txt --library=/home/biocbuild/bbs-3.21-bioc/R/site-library --timings MPFE_1.43.0.tar.gz StartedAt: 2025-02-10 00:25:37 -0500 (Mon, 10 Feb 2025) EndedAt: 2025-02-10 00:25:54 -0500 (Mon, 10 Feb 2025) EllapsedTime: 17.0 seconds RetCode: 0 Status: OK CheckDir: MPFE.Rcheck Warnings: 0