Package: MPFE Version: 1.43.0 Command: rm -rf MPFE.buildbin-libdir && mkdir MPFE.buildbin-libdir && E:\biocbuild\bbs-3.21-bioc\R\bin\R.exe CMD INSTALL --build --library=MPFE.buildbin-libdir MPFE_1.43.0.tar.gz StartedAt: 2025-02-10 08:12:36 -0500 (Mon, 10 Feb 2025) EndedAt: 2025-02-10 08:12:40 -0500 (Mon, 10 Feb 2025) EllapsedTime: 3.5 seconds RetCode: 0 Status: OK PackageFile: MPFE_1.43.0.zip PackageFileSize: 131.7 KiB