Package: MPRAnalyze Version: 1.25.0 Command: /Library/Frameworks/R.framework/Resources/bin/R CMD build --keep-empty-dirs --no-resave-data MPRAnalyze StartedAt: 2025-02-12 17:02:18 -0500 (Wed, 12 Feb 2025) EndedAt: 2025-02-12 17:02:46 -0500 (Wed, 12 Feb 2025) EllapsedTime: 27.3 seconds RetCode: 0 Status: OK PackageFile: MPRAnalyze_1.25.0.tar.gz PackageFileSize: 402.2 KiB