Package: MPRAnalyze Version: 1.25.0 Command: rm -rf MPRAnalyze.buildbin-libdir && mkdir MPRAnalyze.buildbin-libdir && /Users/biocbuild/BBS/utils/build-universal.sh MPRAnalyze_1.25.0.tar.gz /Library/Frameworks/R.framework/Resources/bin/R MPRAnalyze.buildbin-libdir StartedAt: 2025-02-13 00:47:06 -0500 (Thu, 13 Feb 2025) EndedAt: 2025-02-13 00:47:38 -0500 (Thu, 13 Feb 2025) EllapsedTime: 32.4 seconds RetCode: 0 Status: OK PackageFile: MPRAnalyze_1.25.0.tgz PackageFileSize: 633.7 KiB