Package: MPRAnalyze Version: 1.25.0 Command: /Library/Frameworks/R.framework/Resources/bin/R CMD build --keep-empty-dirs --no-resave-data MPRAnalyze StartedAt: 2025-02-09 17:35:32 -0500 (Sun, 09 Feb 2025) EndedAt: 2025-02-09 17:37:07 -0500 (Sun, 09 Feb 2025) EllapsedTime: 94.9 seconds RetCode: 0 Status: OK PackageFile: MPRAnalyze_1.25.0.tar.gz PackageFileSize: 402.3 KiB