Package: MPRAnalyze Version: 1.25.0 Command: /Library/Frameworks/R.framework/Resources/bin/R CMD check --install=check:MPRAnalyze.install-out.txt --library=/Library/Frameworks/R.framework/Resources/library --no-vignettes --timings MPRAnalyze_1.25.0.tar.gz StartedAt: 2025-02-09 22:05:58 -0500 (Sun, 09 Feb 2025) EndedAt: 2025-02-09 22:09:23 -0500 (Sun, 09 Feb 2025) EllapsedTime: 205.2 seconds RetCode: 0 Status: OK CheckDir: MPRAnalyze.Rcheck Warnings: 0