Package: MPRAnalyze Version: 1.25.0 Command: /Library/Frameworks/R.framework/Resources/bin/R CMD INSTALL MPRAnalyze StartedAt: 2025-02-12 15:16:46 -0500 (Wed, 12 Feb 2025) EndedAt: 2025-02-12 15:17:16 -0500 (Wed, 12 Feb 2025) EllapsedTime: 29.9 seconds RetCode: 0 Status: OK