Package: MPRAnalyze Version: 1.25.0 Command: /home/biocbuild/bbs-3.21-bioc/R/bin/R CMD build --keep-empty-dirs --no-resave-data MPRAnalyze StartedAt: 2025-02-09 18:16:26 -0500 (Sun, 09 Feb 2025) EndedAt: 2025-02-09 18:17:39 -0500 (Sun, 09 Feb 2025) EllapsedTime: 73.1 seconds RetCode: 0 Status: OK PackageFile: MPRAnalyze_1.25.0.tar.gz PackageFileSize: 559.5 KiB