Package: MPRAnalyze Version: 1.25.0 Command: /home/biocbuild/bbs-3.21-bioc/R/bin/R CMD INSTALL MPRAnalyze StartedAt: 2025-02-09 15:21:34 -0500 (Sun, 09 Feb 2025) EndedAt: 2025-02-09 15:21:59 -0500 (Sun, 09 Feb 2025) EllapsedTime: 25.0 seconds RetCode: 0 Status: OK