Package: MPRAnalyze Version: 1.25.0 Command: rm -rf MPRAnalyze.buildbin-libdir && mkdir MPRAnalyze.buildbin-libdir && E:\biocbuild\bbs-3.21-bioc\R\bin\R.exe CMD INSTALL --build --library=MPRAnalyze.buildbin-libdir MPRAnalyze_1.25.0.tar.gz StartedAt: 2025-02-13 08:23:14 -0500 (Thu, 13 Feb 2025) EndedAt: 2025-02-13 08:23:59 -0500 (Thu, 13 Feb 2025) EllapsedTime: 44.7 seconds RetCode: 0 Status: OK PackageFile: MPRAnalyze_1.25.0.zip PackageFileSize: 567.8 KiB