Package: MSA2dist Version: 1.11.1 Command: /Library/Frameworks/R.framework/Resources/bin/R CMD build --keep-empty-dirs --no-resave-data MSA2dist StartedAt: 2025-02-09 17:35:40 -0500 (Sun, 09 Feb 2025) EndedAt: 2025-02-09 17:37:30 -0500 (Sun, 09 Feb 2025) EllapsedTime: 109.8 seconds RetCode: 0 Status: OK PackageFile: MSA2dist_1.11.1.tar.gz PackageFileSize: 878.3 KiB