Package: MSA2dist Version: 1.11.1 Command: /Library/Frameworks/R.framework/Resources/bin/R CMD INSTALL MSA2dist StartedAt: 2025-02-09 15:13:28 -0500 (Sun, 09 Feb 2025) EndedAt: 2025-02-09 15:14:45 -0500 (Sun, 09 Feb 2025) EllapsedTime: 77.3 seconds RetCode: 0 Status: OK