Package: MSA2dist Version: 1.11.1 Command: rm -rf MSA2dist.buildbin-libdir && mkdir MSA2dist.buildbin-libdir && E:\biocbuild\bbs-3.21-bioc\R\bin\R.exe CMD INSTALL --build --library=MSA2dist.buildbin-libdir MSA2dist_1.11.1.tar.gz StartedAt: 2025-02-13 08:23:20 -0500 (Thu, 13 Feb 2025) EndedAt: 2025-02-13 08:24:54 -0500 (Thu, 13 Feb 2025) EllapsedTime: 94.3 seconds RetCode: 0 Status: OK PackageFile: MSA2dist_1.11.1.zip PackageFileSize: 1.273 MiB