Package: MSA2dist Version: 1.11.1 Command: E:\biocbuild\bbs-3.21-bioc\R\bin\R.exe CMD INSTALL MSA2dist StartedAt: 2025-02-09 15:40:00 -0500 (Sun, 09 Feb 2025) EndedAt: 2025-02-09 15:41:36 -0500 (Sun, 09 Feb 2025) EllapsedTime: 96.7 seconds RetCode: 0 Status: OK