Package: MSPrep Version: 1.17.0 Command: /Library/Frameworks/R.framework/Resources/bin/R CMD check --install=check:MSPrep.install-out.txt --library=/Library/Frameworks/R.framework/Resources/library --no-vignettes --timings MSPrep_1.17.0.tar.gz StartedAt: 2025-02-09 20:19:06 -0500 (Sun, 09 Feb 2025) EndedAt: 2025-02-09 20:22:04 -0500 (Sun, 09 Feb 2025) EllapsedTime: 178.1 seconds RetCode: 1 Status: ERROR CheckDir: MSPrep.Rcheck Warnings: NA