Package: MSPrep Version: 1.17.0 Command: /Library/Frameworks/R.framework/Resources/bin/R CMD INSTALL MSPrep StartedAt: 2025-02-09 15:26:46 -0500 (Sun, 09 Feb 2025) EndedAt: 2025-02-09 15:26:59 -0500 (Sun, 09 Feb 2025) EllapsedTime: 13.7 seconds RetCode: 0 Status: OK