Package: MSPrep Version: 1.17.0 Command: /home/biocbuild/R/R/bin/R CMD check --install=check:MSPrep.install-out.txt --library=/home/biocbuild/R/R/site-library --no-vignettes --timings MSPrep_1.17.0.tar.gz StartedAt: 2025-01-28 12:55:36 -0000 (Tue, 28 Jan 2025) EndedAt: 2025-01-28 13:06:33 -0000 (Tue, 28 Jan 2025) EllapsedTime: 656.9 seconds RetCode: 1 Status: ERROR CheckDir: MSPrep.Rcheck Warnings: NA